BEGIN:VCALENDAR
VERSION:2.0
PRODID:-//Chabad of Austin - ECPv6.15.17.1//NONSGML v1.0//EN
CALSCALE:GREGORIAN
METHOD:PUBLISH
X-WR-CALNAME:Chabad of Austin
X-ORIGINAL-URL:https://www.chabadaustin.com
X-WR-CALDESC:Events for Chabad of Austin
REFRESH-INTERVAL;VALUE=DURATION:PT1H
X-Robots-Tag:noindex
X-PUBLISHED-TTL:PT1H
BEGIN:VTIMEZONE
TZID:America/Chicago
BEGIN:DAYLIGHT
TZOFFSETFROM:-0600
TZOFFSETTO:-0500
TZNAME:CDT
DTSTART:20250309T080000
END:DAYLIGHT
BEGIN:STANDARD
TZOFFSETFROM:-0500
TZOFFSETTO:-0600
TZNAME:CST
DTSTART:20251102T070000
END:STANDARD
BEGIN:DAYLIGHT
TZOFFSETFROM:-0600
TZOFFSETTO:-0500
TZNAME:CDT
DTSTART:20260308T080000
END:DAYLIGHT
BEGIN:STANDARD
TZOFFSETFROM:-0500
TZOFFSETTO:-0600
TZNAME:CST
DTSTART:20261101T070000
END:STANDARD
BEGIN:DAYLIGHT
TZOFFSETFROM:-0600
TZOFFSETTO:-0500
TZNAME:CDT
DTSTART:20270314T080000
END:DAYLIGHT
BEGIN:STANDARD
TZOFFSETFROM:-0500
TZOFFSETTO:-0600
TZNAME:CST
DTSTART:20271107T070000
END:STANDARD
END:VTIMEZONE
BEGIN:VEVENT
DTSTART;TZID=America/Chicago:20260428T193000
DTEND;TZID=America/Chicago:20260428T203000
DTSTAMP:20260421T075042
CREATED:20260325T161611Z
LAST-MODIFIED:20260327T170448Z
UID:9556-1777404600-1777408200@www.chabadaustin.com
SUMMARY:For All Humankind
DESCRIPTION:What makes life worth living? Not successful\, not productive\, not optimized: just genuinely good? \n\n\n\nWhat does it mean to be a good person: Is there a definition that doesn’t shift every few years? What makes a society a good and just place to live in? And do our choices actually matter? \n\n\n\nThese are life’s most essential questions. But somewhere along the way\, we stopped having serious conversations about them. \n\n\n\nThis course is a conversation about the foundational values that make a good life and a just society possible. \n\n\n\nYou’ll walk away with something that’s hard to find right now: the clarity to explain why your deepest values are worth fighting for\, and why every small choice you make adds up to a better world. \n\n\n\nSee bellow for the class syllabus. \n\n\n\nWhen: Four Sessions\, Tuesdays & Wednesdays\, April 28-May 20 (see exact schedule below) \n\n\n\nEvening session (includes refreshments):Four Sessions\, Tuesday evenings | April 28-May 19 | 7:30pm-9:00pm \n\n\n\nLunch session (includes lunch):Four sessions\, Wednesday afternoons | April 29-May 20 | 11:30am-1:00pm  \n\n\n\nWhere: Chabad of Austin\, 3500 Hyridge Dr \n\n\n\nInstructor: Rabbi Levi Levertov \n\n\n\nCost: $99 per person\, includes textbook. Early Bird: $89 \n\n\n\nCLE credits available for attorneys.  \n\n\n\n\nRegister
URL:https://www.chabadaustin.com/event/for-all-humankind/
LOCATION:Chabad of Austin\, 3500 Hyridge Drive\, Austin\, Texas\, 78759\, United States
ATTACH;FMTTYPE=image/jpeg:https://www.chabadaustin.com/wp-content/uploads/2026/03/Judaism-universal-post.jpg
END:VEVENT
END:VCALENDAR